BEGIN:VCALENDAR
VERSION:2.0
PRODID:icalendar-ruby
CALSCALE:GREGORIAN
METHOD:PUBLISH
BEGIN:VEVENT
DTSTAMP:20210227T143108Z
UID:18-8110@championschurch.com.au
DTSTART:20210305T230000Z
DTEND:20210306T020000Z
CLASS:PUBLIC
CREATED:20210218T101324
DESCRIPTION:
LAST-MODIFIED:20210218T101324
LOCATION:Champions Ministry Centre
SUMMARY:I Love my Church
URL:https://www.championschurch.com.au/events/i-love-my-church/2021-03-06
END:VEVENT
END:VCALENDAR
