BEGIN:VCALENDAR
VERSION:2.0
PRODID:icalendar-ruby
CALSCALE:GREGORIAN
METHOD:PUBLISH
BEGIN:VEVENT
DTSTAMP:20210227T143203Z
UID:19-8111@championschurch.com.au
DTSTART:20210314T080000Z
DTEND:20210314T093000Z
CLASS:PUBLIC
CREATED:20210218T101440
DESCRIPTION:
LAST-MODIFIED:20210218T101440
LOCATION:Champions Ministry Centre
SUMMARY:Leadership Training Night
URL:https://www.championschurch.com.au/events/leadership-training-night/202
 1-03-14
END:VEVENT
END:VCALENDAR
