BEGIN:VCALENDAR
VERSION:2.0
PRODID:icalendar-ruby
CALSCALE:GREGORIAN
METHOD:PUBLISH
BEGIN:VEVENT
DTSTAMP:20210227T143104Z
UID:17-8109@championschurch.com.au
DTSTART:20210305T210000Z
DTEND:20210306T110000Z
CLASS:PUBLIC
CREATED:20210218T101212
DESCRIPTION:
LAST-MODIFIED:20210218T101212
LOCATION:Champions Ministry Centre
SUMMARY:Mens Breaky
URL:https://www.championschurch.com.au/events/mens-breaky--17/2021-03-06
END:VEVENT
END:VCALENDAR
